BEGIN:VCALENDAR
VERSION:2.0
PRODID:-//eventon.com NONSGML v1.0//EN
CALSCALE:GREGORIAN
METHOD:PUBLISH
BEGIN:VEVENT
UID:69e62734f094c
DTSTAMP:20260420T131636Z
DTSTART:20260502T220000Z
DTEND:20260503T003000Z
LOCATION:
SUMMARY:The Joanne Smith Experience-Live
DESCRIPTION:\nhttps://thejoannesmithexperience.com/events/the-joanne-smith-
 experience-live-3/
URL:https://thejoannesmithexperience.com/events/the-joanne-smith-experience-live-3/
END:VEVENT
END:VCALENDAR