BEGIN:VCALENDAR
VERSION:2.0
PRODID:-//eventon.com NONSGML v1.0//EN
CALSCALE:GREGORIAN
METHOD:PUBLISH
BEGIN:VEVENT
UID:69e63d6010579
DTSTAMP:20260420T145112Z
DTSTART:20260502T180000Z
DTEND:20260502T203000Z
LOCATION:
SUMMARY:BEASTLY FEST - ATLANTA ZOO
DESCRIPTION:BEASTLY FEST - ATLANTA ZOO\nhttps://thejoannesmithexperience.co
 m/events/beastly-fest-atlanta-zoo/
URL:https://thejoannesmithexperience.com/events/beastly-fest-atlanta-zoo/
END:VEVENT
END:VCALENDAR