BEGIN:VCALENDAR
VERSION:2.0
PRODID:-//eventon.com NONSGML v1.0//EN
CALSCALE:GREGORIAN
METHOD:PUBLISH
BEGIN:VEVENT
UID:69e6377c44653
DTSTAMP:20260420T142604Z
DTSTART:20260404T200000Z
DTEND:20260404T220000Z
LOCATION:
SUMMARY:TJSE - PHENOMENAL SEAFOOD
DESCRIPTION:TJSE - PHENOMENAL SEAFOOD\nhttps://thejoannesmithexperience.com
 /events/tjse-phenomenal-seafood/
URL:https://thejoannesmithexperience.com/events/tjse-phenomenal-seafood/
END:VEVENT
END:VCALENDAR