BEGIN:VCALENDAR
VERSION:2.0
PRODID:-//eventon.com NONSGML v1.0//EN
CALSCALE:GREGORIAN
METHOD:PUBLISH
BEGIN:VEVENT
UID:69e63b444c151
DTSTAMP:20260420T144212Z
DTSTART:20260530T170000Z
DTEND:20260530T190000Z
LOCATION:
SUMMARY:TJSE - STELLAR ENTERTAINMENT
DESCRIPTION:TJSE - STELLAR ENTERTAINMENT\nhttps://thejoannesmithexperience.
 com/events/tjse-stellar-entertainment/
URL:https://thejoannesmithexperience.com/events/tjse-stellar-entertainment/
END:VEVENT
END:VCALENDAR